BEGIN:VCALENDAR
VERSION:2.0
PRODID:-//Library Market//iCal Export//EN
BEGIN:VEVENT
SUMMARY:KYNECT
UID:18652
DTSTAMP:20260420T001300Z
DTSTART:20260522T160000Z
DTEND:20260522T180000Z
LOCATION:Rowan County Public Library, 175 Beacon Hill Rd, Morehead , KY 40
 351, United States
ROOM: Vestibule
DESCRIPTION:Talk to people about SNAP and medicaid benefits
URL:https://www.rowancountylibrary.org/event/kynect-18652
END:VEVENT
END:VCALENDAR
