BEGIN:VCALENDAR
VERSION:2.0
PRODID:-//Library Market//iCal Export//EN
BEGIN:VEVENT
SUMMARY:KYNECT
UID:19482
DTSTAMP:20260420T001300Z
DTSTART:20260625T170000Z
DTEND:20260625T190000Z
LOCATION:Rowan County Public Library, 175 Beacon Hill Rd, Morehead , KY 40
 351, United States
ROOM: Vestibule
DESCRIPTION:Talk to people about SNAP and medicaid benefits
URL:https://www.rowancountylibrary.org/event/kynect-19482
END:VEVENT
END:VCALENDAR
