BEGIN:VCALENDAR
VERSION:2.0
PRODID:-//Library Market//iCal Export//EN
BEGIN:VEVENT
SUMMARY:Estate Planning Educational Workshop
UID:19526
DTSTAMP:20260420T001300Z
DTSTART:20260616T203000Z
DTEND:20260616T230000Z
LOCATION:Rowan County Public Library, 175 Beacon Hill Rd, Morehead , KY 40
 351, United States
ROOM: Community Room A &amp; B
DESCRIPTION:Estate Planning Educational Workshop
URL:https://www.rowancountylibrary.org/event/estate-planning-educational-w
 orkshop-19526
END:VEVENT
END:VCALENDAR
