BEGIN:VCALENDAR
VERSION:2.0
PRODID:-//Library Market//iCal Export//EN
BEGIN:VEVENT
SUMMARY:KY Tenants
UID:19661
DTSTAMP:20260425T162000Z
DTSTART:20260425T180000Z
DTEND:20260425T204500Z
LOCATION:Rowan County Public Library, 175 Beacon Hill Rd, Morehead , KY 40
 351, United States
ROOM: Vestibule
DESCRIPTION:
URL:https://www.rowancountylibrary.org/event/ky-tenants-19661
END:VEVENT
END:VCALENDAR
