BEGIN:VCALENDAR
VERSION:2.0
PRODID:-//Library Market//iCal Export//EN
BEGIN:VEVENT
SUMMARY:Community Conversation: ALA Libraries Transforming Communities Gra
 nt
UID:19662
DTSTAMP:20260425T032700Z
DTSTART:20260429T170000Z
DTEND:20260429T180000Z
LOCATION:Rowan County Public Library, 175 Beacon Hill Rd, Morehead , KY 40
 351, United States
ROOM: Community Room A &amp; B
DESCRIPTION:We&#039;ve received a new Libraries Transforming Communities g
 rant from the American Library Association! Our first such grant allowed u
 s to build our sensory room with input from friends and neighbors. Now, we
 &#039;re inviting you to be part of the conversation once again as we move
  forward with this next accessibility grant. Bring your thoughts on improv
 ing library resources and on what new services we could offer! 
URL:https://www.rowancountylibrary.org/event/community-conversation-ala-li
 braries-transforming-communities-grant-19662
END:VEVENT
END:VCALENDAR
